BEGIN:VCALENDAR
VERSION:2.0
PRODID:-//ChamberMaster//Event Calendar 2.0//EN
METHOD:PUBLISH
X-PUBLISHED-TTL:P3D
REFRESH-INTERVAL:P3D
CALSCALE:GREGORIAN
BEGIN:VEVENT
DTSTART:20190921T200000Z
DTEND:20190922T010000Z
X-MICROSOFT-CDO-ALLDAYEVENT:FALSE
SUMMARY:Affordable Housing Corporation Yearly Fundraiser
DESCRIPTION:Vera Bradley Bingo @ Plaza Green Apartments\n\n\n\nEarly Bird is 4:40 P.M. - Regular Games begin at 5 P.M.\n\n\n\nTickets are $12 in advance and $15 at the door\n\n\n\nAdvance tickets can be purchased at Affordable Housing Corporation's office located at 812 South Washington Street in Marion or they may call at (765) 662-1574 ext 100.
X-ALT-DESC;FMTTYPE=text/html:<span style="font-size:14px\;"><span style="font-family:tahoma\;">Vera Bradley Bingo @ Plaza Green Apartments<br />\n<br />\nEarly Bird is 4:40 P.M. - Regular Games begin at 5 P.M.<br />\n<br />\nTickets are $12 in advance and $15 at the door<br />\n<br />\nAdvance tickets can be purchased at Affordable Housing Corporation&#39\;s office located at 812 South Washington Street in Marion or they may call at (765) 662-1574 ext 100.</span></span>
LOCATION:930 North Park Avenue Marion\, IN 46952 (behind Five Points Park Mall)
UID:e.1400.3706
SEQUENCE:3
DTSTAMP:20260422T184153Z
URL:https://business.marionchamber.org/events/details/affordable-housing-corporation-yearly-fundraiser-3706
END:VEVENT

END:VCALENDAR
