BEGIN:VCALENDAR
VERSION:2.0
PRODID:-//ChamberMaster//Event Calendar 2.0//EN
METHOD:PUBLISH
X-PUBLISHED-TTL:P3D
REFRESH-INTERVAL:P3D
CALSCALE:GREGORIAN
BEGIN:VEVENT
DTSTART:20190913T220000Z
DTEND:20190914T000000Z
X-MICROSOFT-CDO-ALLDAYEVENT:FALSE
SUMMARY:Grant Co. Sheriff’s Dept. Carnival Fundraiser for Project Lifesaver
DESCRIPTION:Grant Co.  Sheriff's Dept. Carnival Fundraiser for Project Lifesaver\n\nFri. Sept. 13th   6pm-8pm       \n\nCome and See the Alpaca's (click here) \n \n\nCotton Candy \, Mouse Ears (Elephant Ears)\, Snow Cones\, Bounce House\,  Games\, Much More!!!!\n\n \n\nTickets 5 for $1                         30 tickets for $5 \n\nAll proceeds go to Gr. County Sheriff's Dept.  Project Lifesaver
X-ALT-DESC;FMTTYPE=text/html:<div style="text-align: center\;"><strong><span style="font-size:16.0pt\;">Grant Co.&nbsp\; Sheriff&rsquo\;s Dept. Carnival Fundraiser for Project Lifesaver</span></strong><br />\n<strong><span style="font-size:18.0pt\;">Fri. Sept. 13<sup>th</sup> &ndash\; 6pm-8pm&nbsp\;&nbsp\;&nbsp\;&nbsp\;&nbsp\;&nbsp\;&nbsp\;<br />\nCome and See the Alpaca&rsquo\;s (<a href="https://chambermaster.blob.core.windows.net/userfiles/UserFiles/chambers/1400/File/alpaca.jpg">click here</a>)&nbsp\;</span></strong></div>\n&nbsp\;\n\n<div style="text-align: center\;"><strong><span style="font-size:20.0pt\;">Cotton Candy \, Mouse Ears (Elephant Ears)\, Snow Cones\, Bounce House\,&nbsp\; Games\, Much More!!!!</span></strong><br />\n&nbsp\;<br />\n<strong><span style="font-size:20.0pt\;">Tickets 5 for $1&nbsp\;&nbsp\;&nbsp\;&nbsp\;&nbsp\;&nbsp\;&nbsp\;&nbsp\;&nbsp\;&nbsp\;&nbsp\;&nbsp\;&nbsp\;&nbsp\;&nbsp\;&nbsp\;&nbsp\;&nbsp\;&nbsp\;&nbsp\;&nbsp\;&nbsp\;&nbsp\;&nbsp\; 30 tickets for $5 </span></strong><br />\n<strong><span style="font-family:calibri\,sans-serif\;"><span style="font-size:16.0pt\;">All proceeds go to Gr. County Sheriff&rsquo\;s Dept. &nbsp\;Project Lifesaver</span></span></strong></div>\n
LOCATION:York Place 750 West 50th Street Marion IN 46953
UID:e.1400.3702
SEQUENCE:3
DTSTAMP:20260422T184154Z
URL:https://business.marionchamber.org/events/details/grant-co-sheriff-s-dept-carnival-fundraiser-for-project-lifesaver-3702
END:VEVENT

END:VCALENDAR
