BEGIN:VCALENDAR
VERSION:2.0
PRODID:-//ChamberMaster//Event Calendar 2.0//EN
METHOD:PUBLISH
X-PUBLISHED-TTL:P3D
REFRESH-INTERVAL:P3D
CALSCALE:GREGORIAN
BEGIN:VEVENT
DTSTART:20190909T230000Z
DTEND:20190912T010000Z
X-MICROSOFT-CDO-ALLDAYEVENT:FALSE
SUMMARY:St. Paul & Holy Family Catholic Churches to Hold September Mission
DESCRIPTION:St. Paul and Holy Family Catholic Churches are joining together to host a mission entitled "The Gospel According to St. Paul" on September 9\, 10 and 11. The mission will be held at St. Paul Catholic Church located at 1031 Kem Road in Marion beginning at 7:00 p.m. each evening.\n\n\n\nLeading the mission will be Father James De Oreo\, associate pastor at St. Alphonsus Liguori in Zionsville. Fr. De Oreo shares\, "St. Paul's life and letters are an image of Christian life. The first night will be an in-depth look at St. Paul's conversion. September 10 will look at the second stage of Christian life: growth in the Spirit." To learn more about the mission visit www.stpaulcatholicmarion.org/september-mission-2019. You may also call St. Paul Catholic Church at 765-664-6345 or Holy Family Catholic Church at 765-674-2605 or email Kelly Scher at kscher@stpaulcatholicmarion.com.\n\n\n\nA parish mission is a preaching event in which God's word is proclaimed through the Bible and Catholic doctrine. It is a time of grace for individuals and the whole community. In addition to preaching\, its core elements are reconciliation\, fellowship\, prayer\, Scripture and healing.
X-ALT-DESC;FMTTYPE=text/html:<span style="font-size:14px\;"><span style="font-family:tahoma\;">St. Paul and Holy Family Catholic Churches are joining together to host a mission entitled &ldquo\;The Gospel According to St. Paul&rdquo\; on September 9\, 10 and 11. The mission will be held at St. Paul Catholic Church located at 1031 Kem Road in Marion beginning at 7:00 p.m. each evening.<br />\n<br />\nLeading the mission will be Father James De Oreo\, associate pastor at St. Alphonsus Liguori in Zionsville. Fr. De Oreo shares\, &ldquo\;St. Paul&rsquo\;s life and letters are an image of Christian life. The first night will be an in-depth look at St. Paul&rsquo\;s conversion. September 10 will look at the second stage of Christian life: growth in the Spirit.&rdquo\; To learn more about the mission visit <a href="http://www.stpaulcatholicmarion.org/september-mission-2019">www.stpaulcatholicmarion.org/september-mission-2019</a>. You may also call St. Paul Catholic Church at 765-664-6345 or Holy Family Catholic Church at 765-674-2605 or email Kelly Scher at <a href="mailto:kscher@stpaulcatholicmarion.com">kscher@stpaulcatholicmarion.com</a>.<br />\n<br />\nA parish mission is a preaching event in which God&rsquo\;s word is proclaimed through the Bible and Catholic doctrine. It is a time of grace for individuals and the whole community. In addition to preaching\, its core elements are reconciliation\, fellowship\, prayer\, Scripture and healing.</span></span>
LOCATION:St. Paul Catholic Church 1031 Kem Road Marion IN 46952
UID:e.1400.3694
SEQUENCE:3
DTSTAMP:20260422T184241Z
URL:https://business.marionchamber.org/events/details/st-paul-holy-family-catholic-churches-to-hold-september-mission-3694
END:VEVENT

END:VCALENDAR
