BEGIN:VCALENDAR
VERSION:2.0
PRODID:-//ChamberMaster//Event Calendar 2.0//EN
METHOD:PUBLISH
X-PUBLISHED-TTL:P3D
REFRESH-INTERVAL:P3D
CALSCALE:GREGORIAN
BEGIN:VEVENT
DTSTART:20190918T220000Z
DTEND:20190919T010000Z
X-MICROSOFT-CDO-ALLDAYEVENT:FALSE
SUMMARY:Wine Tasting Event @ The Tomahawk
DESCRIPTION:Wine Tasting Event (click here)
X-ALT-DESC;FMTTYPE=text/html:<font face="tahoma"><span style="font-size: 14px\;">Wine Tasting Event (<a href="https://chambermaster.blob.core.windows.net/userfiles/UserFiles/chambers/1400/File/WineTastingEvent9.18.19.PNG">click here</a>)</span></font>
LOCATION:The Tomahawk 2225 North Lagro Road Marion IN 46952
UID:e.1400.3701
SEQUENCE:3
DTSTAMP:20260422T184148Z
URL:https://business.marionchamber.org/events/details/wine-tasting-event-the-tomahawk-3701
END:VEVENT

END:VCALENDAR
